BEGIN:VCALENDAR
VERSION:2.0
PRODID:-//eventon.com NONSGML v1.0//EN
CALSCALE:GREGORIAN
METHOD:PUBLISH
BEGIN:VEVENT
UID:69eb5e618ab11
DTSTAMP:20260424T121321Z
DTSTART:20261018
DTEND:20261019
LOCATION:Chicago 5555 N River Rd 
 Rosemont\,  60018 Vereinigte Staaten
SUMMARY:PACK EXPO International 2026
DESCRIPTION:PACK EXPO International 2026\nhttps://packaging-journal.de/en/e
 vents/pack-expo-2026/
URL:https://packaging-journal.de/en/events/pack-expo-2026/
END:VEVENT
END:VCALENDAR